BEGIN:VCALENDAR
PRODID:-//Pixl8//Eventfolio//EN
VERSION:2.0
X-WR-TIMEZONE:Europe/London
CALSCALE:GREGORIAN
METHOD:PUBLISH
CLASS:PUBLIC
BEGIN:VTIMEZONE
TZID:Europe/London
LAST-MODIFIED:20260306T231828Z
TZURL:https://www.tzurl.org/zoneinfo-outlook/Europe/London
X-LIC-LOCATION:Europe/London
BEGIN:DAYLIGHT
TZNAME:BST
TZOFFSETFROM:+0000
TZOFFSETTO:+0100
DTSTART:19700329T010000
RRULE:FREQ=YEARLY;BYMONTH=3;BYDAY=-1SU
END:DAYLIGHT
BEGIN:STANDARD
TZNAME:GMT
TZOFFSETFROM:+0100
TZOFFSETTO:+0000
DTSTART:19701025T020000
RRULE:FREQ=YEARLY;BYMONTH=10;BYDAY=-1SU
END:STANDARD
END:VTIMEZONE
BEGIN:VEVENT
DTSTART;TZID=Europe/London;VALUE=DATE:20240314
DTEND;TZID=Europe/London;VALUE=DATE:20270319
DTSTAMP:20260421T134028Z
UID:{C84D7165-CB38-4831-8119E67CEDF8BB39}
LOCATION:Online
SUMMARY:Digital Data Legacy
DESCRIPTION:Our Digital Data consumption continues to increase, we use cloud storage and online accounts for our files, pictures, documents and more. Maintaining this data has a huge impact on the environment. Have you ever considered what will happen to this data after your demise?\n
 \n
 Event details: https://www.apdo.co.uk/conference-and-events/ems-event-calendar/digital-data-legacy.html
PRIORITY:1
END:VEVENT
END:VCALENDAR